BEGIN:VCALENDAR
VERSION:2.0
PRODID:-//Colorado Hispanic Bar Association - ECPv6.15.17//NONSGML v1.0//EN
CALSCALE:GREGORIAN
METHOD:PUBLISH
X-WR-CALNAME:Colorado Hispanic Bar Association
X-ORIGINAL-URL:https://chba.net
X-WR-CALDESC:Events for Colorado Hispanic Bar Association
REFRESH-INTERVAL;VALUE=DURATION:PT1H
X-Robots-Tag:noindex
X-PUBLISHED-TTL:PT1H
BEGIN:VTIMEZONE
TZID:America/Denver
BEGIN:DAYLIGHT
TZOFFSETFROM:-0700
TZOFFSETTO:-0600
TZNAME:MDT
DTSTART:20230312T090000
END:DAYLIGHT
BEGIN:STANDARD
TZOFFSETFROM:-0600
TZOFFSETTO:-0700
TZNAME:MST
DTSTART:20231105T080000
END:STANDARD
BEGIN:DAYLIGHT
TZOFFSETFROM:-0700
TZOFFSETTO:-0600
TZNAME:MDT
DTSTART:20240310T090000
END:DAYLIGHT
BEGIN:STANDARD
TZOFFSETFROM:-0600
TZOFFSETTO:-0700
TZNAME:MST
DTSTART:20241103T080000
END:STANDARD
BEGIN:DAYLIGHT
TZOFFSETFROM:-0700
TZOFFSETTO:-0600
TZNAME:MDT
DTSTART:20250309T090000
END:DAYLIGHT
BEGIN:STANDARD
TZOFFSETFROM:-0600
TZOFFSETTO:-0700
TZNAME:MST
DTSTART:20251102T080000
END:STANDARD
END:VTIMEZONE
BEGIN:VEVENT
DTSTART;TZID=America/Denver:20240221T121500
DTEND;TZID=America/Denver:20240221T131500
DTSTAMP:20260425T044327
CREATED:20240201T172409Z
LAST-MODIFIED:20240203T225309Z
UID:10000310-1708517700-1708521300@chba.net
SUMMARY:CLE on Predatory HOA Laws
DESCRIPTION:The Sam Cary Bar Association (SCBA) and the Colorado Hispanic Bar Association (CHBA) join together to produce a series of programs exploring the history of HOA laws and their purpose\, oppressive practices observed nationwide\, and relevant legislation statutes in Colorado related to HOAs. \n\n\n\n\n\n\n\n\nWhere: Online and In PersonThe CBA Offices and Online1290 Broadway Ste 1700Denver\, 80203 \n\n\n\n\n\nRSVP: https://forms.gle/Zi7qjUg4gw6Y62SFA
URL:https://chba.net/event/cle-on-predatory-hoa-laws/
END:VEVENT
BEGIN:VEVENT
DTSTART;TZID=America/Denver:20240229T170000
DTEND;TZID=America/Denver:20240229T190000
DTSTAMP:20260425T044327
CREATED:20240217T022320Z
LAST-MODIFIED:20240219T024303Z
UID:10000314-1709226000-1709233200@chba.net
SUMMARY:An Evening with César Cuauhtémoc García Hernández
DESCRIPTION:The DU Center for Immigration Policy & Research (CIPR) cordially invited you to the launch of César Cuauhtémoc García Hernández’s new book\, Welcome the Wretched: In Defense of the “Criminal Alien” (The New Press\, 2024).
URL:https://chba.net/event/an-evening-with-cesar-cuauhtemoc-garcia-hernandez/
END:VEVENT
END:VCALENDAR