BEGIN:VCALENDAR
VERSION:2.0
PRODID:-//Colorado Hispanic Bar Association - ECPv6.15.17//NONSGML v1.0//EN
CALSCALE:GREGORIAN
METHOD:PUBLISH
X-WR-CALNAME:Colorado Hispanic Bar Association
X-ORIGINAL-URL:https://chba.net
X-WR-CALDESC:Events for Colorado Hispanic Bar Association
REFRESH-INTERVAL;VALUE=DURATION:PT1H
X-Robots-Tag:noindex
X-PUBLISHED-TTL:PT1H
BEGIN:VTIMEZONE
TZID:America/Denver
BEGIN:DAYLIGHT
TZOFFSETFROM:-0700
TZOFFSETTO:-0600
TZNAME:MDT
DTSTART:20250309T090000
END:DAYLIGHT
BEGIN:STANDARD
TZOFFSETFROM:-0600
TZOFFSETTO:-0700
TZNAME:MST
DTSTART:20251102T080000
END:STANDARD
BEGIN:DAYLIGHT
TZOFFSETFROM:-0700
TZOFFSETTO:-0600
TZNAME:MDT
DTSTART:20260308T090000
END:DAYLIGHT
BEGIN:STANDARD
TZOFFSETFROM:-0600
TZOFFSETTO:-0700
TZNAME:MST
DTSTART:20261101T080000
END:STANDARD
BEGIN:DAYLIGHT
TZOFFSETFROM:-0700
TZOFFSETTO:-0600
TZNAME:MDT
DTSTART:20270314T090000
END:DAYLIGHT
BEGIN:STANDARD
TZOFFSETFROM:-0600
TZOFFSETTO:-0700
TZNAME:MST
DTSTART:20271107T080000
END:STANDARD
END:VTIMEZONE
BEGIN:VEVENT
DTSTART;TZID=America/Denver:20260205T120000
DTEND;TZID=America/Denver:20260205T130000
DTSTAMP:20260421T025128
CREATED:20260116T190658Z
LAST-MODIFIED:20260121T210530Z
UID:10000415-1770292800-1770296400@chba.net
SUMMARY:Resume and Interviewing Workshop with CHBA and CU LLSA + Volunteers Needed!
DESCRIPTION:CU LLSA is hosting an Interview and Resume Workshop during lunch on Thursday\, February 5th at Wolf Law. We are looking for attorney volunteers who have experience in the hiring process. We will provide lunch and parking passes for those who can make the commute! If you are available\, please sign up here. \n\n\n\nWe hope that with the help of attorney volunteers\, students will receive feedback on their resumes\, practice commonly asked interview questions\, and receive useful tips as they search for summer and post-grad opportunities! If you are interested in participating as a student\, please sign up here. \n\n\n\nWhen: Thursday\, February 5\, 12:00pm – 1:00pmWhere: Wolf Law\, CU Boulder | 1B06 Garden Level Conference Room
URL:https://chba.net/event/resume-and-interviewing-workshop-with-chba-and-cu-llsa/
END:VEVENT
BEGIN:VEVENT
DTSTART;TZID=America/Denver:20260210T180000
DTEND;TZID=America/Denver:20260210T200000
DTSTAMP:20260421T025128
CREATED:20251230T190701Z
LAST-MODIFIED:20251230T190703Z
UID:10000401-1770746400-1770753600@chba.net
SUMMARY:Legal Night with Mi Casa Resource Center
DESCRIPTION:Join the Colorado Hispanic Bar Association and Mi Casa Resource Center for free monthly business legal clinics! Volunteer attorneys meet one-on-one with community members for 30-minute sessions on topics like contracts\, business formation\, IP\, and more. Help people understand their legal options and connect them to resources. CHBA provides support and materials for all volunteers. \n\n\n\nSign up here! \n\n\n\nContact Salomon (salomon.chavez@du.edu) or Leonela (leonela.urrutia@du.edu) with questions.
URL:https://chba.net/event/legal-night-with-mi-casa-resource-center-13/
END:VEVENT
BEGIN:VEVENT
DTSTART;TZID=America/Denver:20260225T173000
DTEND;TZID=America/Denver:20260225T190000
DTSTAMP:20260421T025128
CREATED:20260129T190142Z
LAST-MODIFIED:20260129T190241Z
UID:10000416-1772040600-1772046000@chba.net
SUMMARY:Becoming a Judicial Nomination or Performance Commissioner in Colorado
DESCRIPTION:Consider Becoming a Judicial Nomination or Performance Commissioner in Any Judicial District of Colorado! \n\n\n\nColorado’s population is rich in diversity\, and your voice is needed. Colorado’s judicial nomination process and judicial performance oversight directly impacts judicial equity\, representation\, and public trust. Commissioners are volunteer public service positions critical to the rule of law. You can become an ally and help encourage community members from underrepresented backgrounds to apply for these essential public service roles. Join us in person or virtually to learn more about these commissioner opportunities and the application process. \n\n\n\nHappy Hour/Food: 5:30 pm to 6:00 pm \n\n\n\nProgram/Presentation/Q&A: 6:00 pm to 7:00 pm \n\n\n\nLocation: Womble Bond Dickinson – 1601 19th St.\, Suite 1000\, Denver\, CO 80202
URL:https://chba.net/event/becoming-a-judicial-nomination-or-performance-commissioner-in-colorado/
END:VEVENT
BEGIN:VEVENT
DTSTART;TZID=America/Denver:20260226T173000
DTEND;TZID=America/Denver:20260226T193000
DTSTAMP:20260421T025128
CREATED:20260113T152217Z
LAST-MODIFIED:20260114T215229Z
UID:10000414-1772127000-1772134200@chba.net
SUMMARY:Pro Bono Volunteer Appreciation Event
DESCRIPTION:Womble Bond Dickinson — 1601 19th St.\, Suite 1000\, Denver\, Colorado 80202 \n\n\n\nJoin us for a cocktail reception to celebrate a successful 2025 clinic year! Help us recognize the volunteer attorneys who dedicated their time to supporting the legal needs of CHBA’s pro bono clinic\, and thank Mi Casa Resource Center for their partnership in making these clinics a success. \n\n\n\nThank you for everyone’s participation in 2025. These clinics would not have been possible without you! \n\n\n\nDrinks and light food will be provided.
URL:https://chba.net/event/pro-bono-volunteer-appreciation-event/
END:VEVENT
END:VCALENDAR