BEGIN:VCALENDAR
VERSION:2.0
PRODID:-//Colorado Hispanic Bar Association - ECPv6.15.17//NONSGML v1.0//EN
CALSCALE:GREGORIAN
METHOD:PUBLISH
X-ORIGINAL-URL:https://chba.net
X-WR-CALDESC:Events for Colorado Hispanic Bar Association
REFRESH-INTERVAL;VALUE=DURATION:PT1H
X-Robots-Tag:noindex
X-PUBLISHED-TTL:PT1H
BEGIN:VTIMEZONE
TZID:America/Denver
BEGIN:DAYLIGHT
TZOFFSETFROM:-0700
TZOFFSETTO:-0600
TZNAME:MDT
DTSTART:20250309T090000
END:DAYLIGHT
BEGIN:STANDARD
TZOFFSETFROM:-0600
TZOFFSETTO:-0700
TZNAME:MST
DTSTART:20251102T080000
END:STANDARD
BEGIN:DAYLIGHT
TZOFFSETFROM:-0700
TZOFFSETTO:-0600
TZNAME:MDT
DTSTART:20260308T090000
END:DAYLIGHT
BEGIN:STANDARD
TZOFFSETFROM:-0600
TZOFFSETTO:-0700
TZNAME:MST
DTSTART:20261101T080000
END:STANDARD
BEGIN:DAYLIGHT
TZOFFSETFROM:-0700
TZOFFSETTO:-0600
TZNAME:MDT
DTSTART:20270314T090000
END:DAYLIGHT
BEGIN:STANDARD
TZOFFSETFROM:-0600
TZOFFSETTO:-0700
TZNAME:MST
DTSTART:20271107T080000
END:STANDARD
END:VTIMEZONE
BEGIN:VEVENT
DTSTART;TZID=America/Denver:20260512T180000
DTEND;TZID=America/Denver:20260512T200000
DTSTAMP:20260419T103931
CREATED:20251230T191223Z
LAST-MODIFIED:20251230T191225Z
UID:10000404-1778608800-1778616000@chba.net
SUMMARY:Legal Night with Mi Casa Resource Center
DESCRIPTION:Join the Colorado Hispanic Bar Association and Mi Casa Resource Center for free monthly business legal clinics! Volunteer attorneys meet one-on-one with community members for 30-minute sessions on topics like contracts\, business formation\, IP\, and more. Help people understand their legal options and connect them to resources. CHBA provides support and materials for all volunteers. \n\n\n\nSign up here! \n\n\n\nContact Salomon (salomon.chavez@du.edu) or Leonela (leonela.urrutia@du.edu) with questions.
URL:https://chba.net/event/legal-night-with-mi-casa-resource-center-16/
END:VEVENT
BEGIN:VEVENT
DTSTART;TZID=America/Denver:20260522T083000
DTEND;TZID=America/Denver:20260522T150000
DTSTAMP:20260419T103931
CREATED:20260321T005314Z
LAST-MODIFIED:20260321T010646Z
UID:10000422-1779438600-1779462000@chba.net
SUMMARY:Your Honor: Journey to the Bench Symposium
DESCRIPTION:Are you an attorney hoping to become a judge in the next one to three years or a current judge exploring opportunities in a higher court?Register now for the Your Honor: Journey to the Bench symposium on Friday\, May 22 at the Colorado Bar Association in Denver! This dynamic\, in-person event features judicial officers from across the state who will share experiences\, practical insights\, advice and best practices; it is hosted by the Judicial Officer Outreach Program and sponsored by the Denver Bar Association.Don’t delay! Space is limited. Register by 5:00 pm on May 12 to secure your spot at this free\, engaging\, and interactive event. Registration closes once capacity is reached\, which may occur prior to the registration deadline.  \n\n\n\nWhen: May 22nd\, 8:30am – 3:00pmWhere: Colorado Bar Association at 1290 N. Broadway\, Denver\, CO 80203.Registration Deadline: May 12th\, 5:00pm (But may close earlier if capacity is filled.) \n\n\n\nRegister here.
URL:https://chba.net/event/your-honor-journey-to-the-bench-symposium/
END:VEVENT
END:VCALENDAR