BEGIN:VCALENDAR
VERSION:2.0
PRODID:-//Colorado Hispanic Bar Association - ECPv6.15.17//NONSGML v1.0//EN
CALSCALE:GREGORIAN
METHOD:PUBLISH
X-WR-CALNAME:Colorado Hispanic Bar Association
X-ORIGINAL-URL:https://chba.net
X-WR-CALDESC:Events for Colorado Hispanic Bar Association
REFRESH-INTERVAL;VALUE=DURATION:PT1H
X-Robots-Tag:noindex
X-PUBLISHED-TTL:PT1H
BEGIN:VTIMEZONE
TZID:America/Denver
BEGIN:DAYLIGHT
TZOFFSETFROM:-0700
TZOFFSETTO:-0600
TZNAME:MDT
DTSTART:20240310T090000
END:DAYLIGHT
BEGIN:STANDARD
TZOFFSETFROM:-0600
TZOFFSETTO:-0700
TZNAME:MST
DTSTART:20241103T080000
END:STANDARD
BEGIN:DAYLIGHT
TZOFFSETFROM:-0700
TZOFFSETTO:-0600
TZNAME:MDT
DTSTART:20250309T090000
END:DAYLIGHT
BEGIN:STANDARD
TZOFFSETFROM:-0600
TZOFFSETTO:-0700
TZNAME:MST
DTSTART:20251102T080000
END:STANDARD
BEGIN:DAYLIGHT
TZOFFSETFROM:-0700
TZOFFSETTO:-0600
TZNAME:MDT
DTSTART:20260308T090000
END:DAYLIGHT
BEGIN:STANDARD
TZOFFSETFROM:-0600
TZOFFSETTO:-0700
TZNAME:MST
DTSTART:20261101T080000
END:STANDARD
END:VTIMEZONE
BEGIN:VEVENT
DTSTART;TZID=America/Denver:20250918T173000
DTEND;TZID=America/Denver:20250918T200000
DTSTAMP:20260420T184607
CREATED:20250902T191454Z
LAST-MODIFIED:20250902T191724Z
UID:10000390-1758216600-1758225600@chba.net
SUMMARY:National Hispanic Heritage Month Celebration
DESCRIPTION:The Colorado Hispanic Bar Association and LCBA invite you to celebrate National Hispanic Heritage Month with food\, drinks\, live music\, and inspiring stories from judges.
URL:https://chba.net/event/national-hispanic-heritage-month-celebration/
END:VEVENT
BEGIN:VEVENT
DTSTART;TZID=America/Denver:20250919T170000
DTEND;TZID=America/Denver:20250919T230000
DTSTAMP:20260420T184607
CREATED:20250206T195208Z
LAST-MODIFIED:20250916T144348Z
UID:10000368-1758301200-1758322800@chba.net
SUMMARY:En el Jardín Annual Banquet
DESCRIPTION:Where: Denver Botanic Gardens \n\n\n\n\n\n\n\nJoin us for CHBA’s annual En el Jardín Banquet! Get your tickets below. \n\n\n\nEarly bird pricing through June 13: $140 members (with login)\, $165 nonmembers \n\n\n\nStandard pricing June 14 to August 30: $170 members (with login)\, $195 nonmembers \n\n\n\nLast-minute pricing August 31 to September 17: $250 (all) \n\n\n\n\n\n\n\nEvent Itinerary: \n\n\n\n\n5:00 PM – 6:30 PM: Cocktails & Networking\n\nEnjoy drinks while mingling with CHBA members\, sponsors\, and guests. A colorful balloon garland will be available for photos!\n\n\n\n\n\n6:30 PM – 7:30 PM: Dinner Service\n\nBuffet lines open. Seating is arranged according to sponsorship levels.\n\n\n\n\n\n7:30 PM – 8:30 PM: Awards Ceremony\n\nRecognition of outstanding members and contributions.\n\n\n\nVerbal acknowledgments of event sponsors.\n\n\n\n\n\n8:30 PM – 11:00 PM: Dessert\, Music & Dancing\n\nEnjoy dessert\, music\, and dancing at the Denver Botanic Gardens.\n\n\n\n\n\n\nAdditional Notes: \n\n\n\n\nAll event tickets include full access to the Denver Botanic Gardens.\n\n\n\nDress Code: Formal / Cocktail Attire\n\n\n\n\nInterested in sponsoring a table? Explore our sponsorship opportunities!
URL:https://chba.net/event/en-el-jardin-annual-banquet/
END:VEVENT
END:VCALENDAR