BEGIN:VCALENDAR
VERSION:2.0
PRODID:-//Colorado Hispanic Bar Association - ECPv6.15.17//NONSGML v1.0//EN
CALSCALE:GREGORIAN
METHOD:PUBLISH
X-ORIGINAL-URL:https://chba.net
X-WR-CALDESC:Events for Colorado Hispanic Bar Association
REFRESH-INTERVAL;VALUE=DURATION:PT1H
X-Robots-Tag:noindex
X-PUBLISHED-TTL:PT1H
BEGIN:VTIMEZONE
TZID:America/Denver
BEGIN:DAYLIGHT
TZOFFSETFROM:-0700
TZOFFSETTO:-0600
TZNAME:MDT
DTSTART:20240310T090000
END:DAYLIGHT
BEGIN:STANDARD
TZOFFSETFROM:-0600
TZOFFSETTO:-0700
TZNAME:MST
DTSTART:20241103T080000
END:STANDARD
BEGIN:DAYLIGHT
TZOFFSETFROM:-0700
TZOFFSETTO:-0600
TZNAME:MDT
DTSTART:20250309T090000
END:DAYLIGHT
BEGIN:STANDARD
TZOFFSETFROM:-0600
TZOFFSETTO:-0700
TZNAME:MST
DTSTART:20251102T080000
END:STANDARD
BEGIN:DAYLIGHT
TZOFFSETFROM:-0700
TZOFFSETTO:-0600
TZNAME:MDT
DTSTART:20260308T090000
END:DAYLIGHT
BEGIN:STANDARD
TZOFFSETFROM:-0600
TZOFFSETTO:-0700
TZNAME:MST
DTSTART:20261101T080000
END:STANDARD
END:VTIMEZONE
BEGIN:VEVENT
DTSTART;TZID=America/Denver:20251002T173000
DTEND;TZID=America/Denver:20251002T190000
DTSTAMP:20260420T171236
CREATED:20250909T122948Z
LAST-MODIFIED:20250927T184716Z
UID:10000391-1759426200-1759431600@chba.net
SUMMARY:Hispanic Heritage Month: Paint & Sip
DESCRIPTION:Join the Colorado Hispanic Bar Association for a fun and creative evening as we celebrate Hispanic Heritage Month with a Paint & Sip! 🎨 \n\n\n\nTickets are $15 and include painting supplies and a drink to sip while you paint. \n\n\n\nNetworking Reception: 5:30 PMPainting Session: 6:00 PM (prompt start)Location: Sipping N Painting Highlands: 1331 W. 38th Ave\, Denver\, CO 80211
URL:https://chba.net/event/hispanic-heritage-month-paint-sip/
END:VEVENT
BEGIN:VEVENT
DTSTART;TZID=America/Denver:20251002T173000
DTEND;TZID=America/Denver:20251002T200000
DTSTAMP:20260420T171236
CREATED:20250916T151022Z
LAST-MODIFIED:20250916T151032Z
UID:10000394-1759426200-1759435200@chba.net
SUMMARY:2025 Latinx Symposium
DESCRIPTION:Location: Sturm College of Law\, 2255 E Evans Ave\, Room 412\, Denver\, CO 80210. \n\n\n\nIn honor of Latinx Heritage Month\, please join the University of Denver for this year’s Latinx Symposium\, a timely intracommunal conversation entitled: \n\n\n\nThe Fight for Rule of Law and Due Process \n\n\n\nWhat is it? Who has access to it? And will it survive? \n\n\n\nThis hybrid event will showcase a panel of legal professionals and academics speaking on the state of the U.S. Judicial System and Constitution. Colorado CLE credits\, including ethics\, pending. \n\n\n\nRSVP here!
URL:https://chba.net/event/2025-latinx-symposium-university-of-denver/
END:VEVENT
END:VCALENDAR