BEGIN:VCALENDAR
VERSION:2.0
PRODID:-//Colorado Hispanic Bar Association - ECPv6.15.17//NONSGML v1.0//EN
CALSCALE:GREGORIAN
METHOD:PUBLISH
X-WR-CALNAME:Colorado Hispanic Bar Association
X-ORIGINAL-URL:https://chba.net
X-WR-CALDESC:Events for Colorado Hispanic Bar Association
REFRESH-INTERVAL;VALUE=DURATION:PT1H
X-Robots-Tag:noindex
X-PUBLISHED-TTL:PT1H
BEGIN:VTIMEZONE
TZID:America/Denver
BEGIN:DAYLIGHT
TZOFFSETFROM:-0700
TZOFFSETTO:-0600
TZNAME:MDT
DTSTART:20240310T090000
END:DAYLIGHT
BEGIN:STANDARD
TZOFFSETFROM:-0600
TZOFFSETTO:-0700
TZNAME:MST
DTSTART:20241103T080000
END:STANDARD
BEGIN:DAYLIGHT
TZOFFSETFROM:-0700
TZOFFSETTO:-0600
TZNAME:MDT
DTSTART:20250309T090000
END:DAYLIGHT
BEGIN:STANDARD
TZOFFSETFROM:-0600
TZOFFSETTO:-0700
TZNAME:MST
DTSTART:20251102T080000
END:STANDARD
BEGIN:DAYLIGHT
TZOFFSETFROM:-0700
TZOFFSETTO:-0600
TZNAME:MDT
DTSTART:20260308T090000
END:DAYLIGHT
BEGIN:STANDARD
TZOFFSETFROM:-0600
TZOFFSETTO:-0700
TZNAME:MST
DTSTART:20261101T080000
END:STANDARD
END:VTIMEZONE
BEGIN:VEVENT
DTSTART;TZID=America/Denver:20251023T173000
DTEND;TZID=America/Denver:20251023T190000
DTSTAMP:20260420T221153
CREATED:20250123T152032Z
LAST-MODIFIED:20250320T025311Z
UID:10000350-1761240600-1761246000@chba.net
SUMMARY:Navigating the Judicial Application Process Series - Preparation for the Interview with the Governor and His Counsel - October 2025
DESCRIPTION:5:30 pm to 6 pm: Happy hour and food \n\n\n\n6 pm to 7 pm: Panel discussion \n\n\n\nPanelists will remain for any additional Q&A. \n\n\n\nLocation: Womble Bond Dickinson\, 1601 19th St\, Suite 1000. A virtual option is available; the link will be sent on the day of the event.  \n\n\n\nThis CLE will focus on preparing for the interview with the Governor and his Counsel. Attendees will hear from the Governor’s Office of Legal Counsel about their role and the qualities they seek in candidates. \n\n\n\nFree for CHBA members; diversity bar members\, enter your discount code during checkout for a reduced rate of $10.
URL:https://chba.net/event/navigating-the-judicial-application-process-series-october-2025/
CATEGORIES:Navigating the Judicial Application Process Series
END:VEVENT
END:VCALENDAR