BEGIN:VCALENDAR
VERSION:2.0
PRODID:-//Colorado Hispanic Bar Association - ECPv6.15.17//NONSGML v1.0//EN
CALSCALE:GREGORIAN
METHOD:PUBLISH
X-WR-CALNAME:Colorado Hispanic Bar Association
X-ORIGINAL-URL:https://chba.net
X-WR-CALDESC:Events for Colorado Hispanic Bar Association
REFRESH-INTERVAL;VALUE=DURATION:PT1H
X-Robots-Tag:noindex
X-PUBLISHED-TTL:PT1H
BEGIN:VTIMEZONE
TZID:America/Denver
BEGIN:DAYLIGHT
TZOFFSETFROM:-0700
TZOFFSETTO:-0600
TZNAME:MDT
DTSTART:20240310T090000
END:DAYLIGHT
BEGIN:STANDARD
TZOFFSETFROM:-0600
TZOFFSETTO:-0700
TZNAME:MST
DTSTART:20241103T080000
END:STANDARD
BEGIN:DAYLIGHT
TZOFFSETFROM:-0700
TZOFFSETTO:-0600
TZNAME:MDT
DTSTART:20250309T090000
END:DAYLIGHT
BEGIN:STANDARD
TZOFFSETFROM:-0600
TZOFFSETTO:-0700
TZNAME:MST
DTSTART:20251102T080000
END:STANDARD
BEGIN:DAYLIGHT
TZOFFSETFROM:-0700
TZOFFSETTO:-0600
TZNAME:MDT
DTSTART:20260308T090000
END:DAYLIGHT
BEGIN:STANDARD
TZOFFSETFROM:-0600
TZOFFSETTO:-0700
TZNAME:MST
DTSTART:20261101T080000
END:STANDARD
END:VTIMEZONE
BEGIN:VEVENT
DTSTART;TZID=America/Denver:20251120T180000
DTEND;TZID=America/Denver:20251120T200000
DTSTAMP:20260421T112302
CREATED:20251106T194134Z
LAST-MODIFIED:20251106T194426Z
UID:10000400-1763661600-1763668800@chba.net
SUMMARY:CHBA and HNBA YLD Friendsgiving Social
DESCRIPTION:Location: Rathod Mohamedbhai LLC –  2701 Lawrence St\, Denver\, CO 80205.  \n\n\n\n\n\n\n\n\n\n\n\nJoin the Colorado Hispanic Bar Association and the Hispanic National Bar Association Region XIII Young Lawyers Divisions for a Friendsgiving Dinner on November 20th! \n\n\n\nCome enjoy great food\, drinks\, community\, and connection!
URL:https://chba.net/event/chba-and-nhba-yld-friendsgiving-social/
END:VEVENT
END:VCALENDAR