BEGIN:VCALENDAR
VERSION:2.0
PRODID:-//Colorado Hispanic Bar Association - ECPv6.15.17//NONSGML v1.0//EN
CALSCALE:GREGORIAN
METHOD:PUBLISH
X-WR-CALNAME:Colorado Hispanic Bar Association
X-ORIGINAL-URL:https://chba.net
X-WR-CALDESC:Events for Colorado Hispanic Bar Association
REFRESH-INTERVAL;VALUE=DURATION:PT1H
X-Robots-Tag:noindex
X-PUBLISHED-TTL:PT1H
BEGIN:VTIMEZONE
TZID:America/Denver
BEGIN:DAYLIGHT
TZOFFSETFROM:-0700
TZOFFSETTO:-0600
TZNAME:MDT
DTSTART:20250309T090000
END:DAYLIGHT
BEGIN:STANDARD
TZOFFSETFROM:-0600
TZOFFSETTO:-0700
TZNAME:MST
DTSTART:20251102T080000
END:STANDARD
BEGIN:DAYLIGHT
TZOFFSETFROM:-0700
TZOFFSETTO:-0600
TZNAME:MDT
DTSTART:20260308T090000
END:DAYLIGHT
BEGIN:STANDARD
TZOFFSETFROM:-0600
TZOFFSETTO:-0700
TZNAME:MST
DTSTART:20261101T080000
END:STANDARD
BEGIN:DAYLIGHT
TZOFFSETFROM:-0700
TZOFFSETTO:-0600
TZNAME:MDT
DTSTART:20270314T090000
END:DAYLIGHT
BEGIN:STANDARD
TZOFFSETFROM:-0600
TZOFFSETTO:-0700
TZNAME:MST
DTSTART:20271107T080000
END:STANDARD
END:VTIMEZONE
BEGIN:VEVENT
DTSTART;TZID=America/Denver:20260122T073000
DTEND;TZID=America/Denver:20260122T090000
DTSTAMP:20260421T042311
CREATED:20260113T050811Z
LAST-MODIFIED:20260113T051058Z
UID:10000413-1769067000-1769072400@chba.net
SUMMARY:Resume Review Breakfast with CHBA and DU LLSA + Volunteers Needed!
DESCRIPTION:Join CHBA attorneys at the University of Denver for breakfast and a review of your resume in preparation for summer internship applications!   \n\n\n\nWe are also seeking attorney volunteers. If you are interested in supporting law students by providing resume feedback\, please sign up here.
URL:https://chba.net/event/resume-review-breakfast-with-chba-and-du-llsa-volunteers-needed/
END:VEVENT
END:VCALENDAR