BEGIN:VCALENDAR
VERSION:2.0
PRODID:-//Colorado Hispanic Bar Association - ECPv6.15.17//NONSGML v1.0//EN
CALSCALE:GREGORIAN
METHOD:PUBLISH
X-ORIGINAL-URL:https://chba.net
X-WR-CALDESC:Events for Colorado Hispanic Bar Association
REFRESH-INTERVAL;VALUE=DURATION:PT1H
X-Robots-Tag:noindex
X-PUBLISHED-TTL:PT1H
BEGIN:VTIMEZONE
TZID:America/Denver
BEGIN:DAYLIGHT
TZOFFSETFROM:-0700
TZOFFSETTO:-0600
TZNAME:MDT
DTSTART:20250309T090000
END:DAYLIGHT
BEGIN:STANDARD
TZOFFSETFROM:-0600
TZOFFSETTO:-0700
TZNAME:MST
DTSTART:20251102T080000
END:STANDARD
BEGIN:DAYLIGHT
TZOFFSETFROM:-0700
TZOFFSETTO:-0600
TZNAME:MDT
DTSTART:20260308T090000
END:DAYLIGHT
BEGIN:STANDARD
TZOFFSETFROM:-0600
TZOFFSETTO:-0700
TZNAME:MST
DTSTART:20261101T080000
END:STANDARD
BEGIN:DAYLIGHT
TZOFFSETFROM:-0700
TZOFFSETTO:-0600
TZNAME:MDT
DTSTART:20270314T090000
END:DAYLIGHT
BEGIN:STANDARD
TZOFFSETFROM:-0600
TZOFFSETTO:-0700
TZNAME:MST
DTSTART:20271107T080000
END:STANDARD
END:VTIMEZONE
BEGIN:VEVENT
DTSTART;TZID=America/Denver:20260319T180000
DTEND;TZID=America/Denver:20260319T200000
DTSTAMP:20260421T142226
CREATED:20260209T193705Z
LAST-MODIFIED:20260317T041503Z
UID:10000417-1773943200-1773950400@chba.net
SUMMARY:Pour Decisions\, Smart Finances with CHBA YLD
DESCRIPTION:Join CHBA YLD for a relaxed\, wine-filled conversation with financial professionals on investing smarter\, planning ahead\, and building long-term financial confidence. Attendees will have the opportunity to ask questions\, engage in discussion\, network\, and enjoy free wine and cheese! \n\n\n\nLocation: Blanchard Family Wines\, 1855 Blake St #120\, Denver\, CO 80202
URL:https://chba.net/event/pour-decisions-smart-finances-with-chba-yld/
END:VEVENT
END:VCALENDAR