BEGIN:VCALENDAR
VERSION:2.0
PRODID:-//Colorado Hispanic Bar Association - ECPv6.15.17//NONSGML v1.0//EN
CALSCALE:GREGORIAN
METHOD:PUBLISH
X-WR-CALNAME:Colorado Hispanic Bar Association
X-ORIGINAL-URL:https://chba.net
X-WR-CALDESC:Events for Colorado Hispanic Bar Association
REFRESH-INTERVAL;VALUE=DURATION:PT1H
X-Robots-Tag:noindex
X-PUBLISHED-TTL:PT1H
BEGIN:VTIMEZONE
TZID:America/Denver
BEGIN:DAYLIGHT
TZOFFSETFROM:-0700
TZOFFSETTO:-0600
TZNAME:MDT
DTSTART:20250309T090000
END:DAYLIGHT
BEGIN:STANDARD
TZOFFSETFROM:-0600
TZOFFSETTO:-0700
TZNAME:MST
DTSTART:20251102T080000
END:STANDARD
BEGIN:DAYLIGHT
TZOFFSETFROM:-0700
TZOFFSETTO:-0600
TZNAME:MDT
DTSTART:20260308T090000
END:DAYLIGHT
BEGIN:STANDARD
TZOFFSETFROM:-0600
TZOFFSETTO:-0700
TZNAME:MST
DTSTART:20261101T080000
END:STANDARD
BEGIN:DAYLIGHT
TZOFFSETFROM:-0700
TZOFFSETTO:-0600
TZNAME:MDT
DTSTART:20270314T090000
END:DAYLIGHT
BEGIN:STANDARD
TZOFFSETFROM:-0600
TZOFFSETTO:-0700
TZNAME:MST
DTSTART:20271107T080000
END:STANDARD
END:VTIMEZONE
BEGIN:VEVENT
DTSTART;TZID=America/Denver:20260331T170000
DTEND;TZID=America/Denver:20260331T170000
DTSTAMP:20260421T030944
CREATED:20260309T183156Z
LAST-MODIFIED:20260309T183159Z
UID:10000419-1774976400-1774976400@chba.net
SUMMARY:CO Secretary of State Candidate Forum
DESCRIPTION:The DBA\, alongside APABA\, CDBA\, CHBA\, CLBA\, CWBA\, SABACO\, and SCBA\, invites you to a forum featuring Colorado’s 2026 candidates for Secretary of State. This will be a nonpartisan discussion and moderated by Esteban Hernandez of Axios. We encourage you to register and participate in this opportunity for meaningful dialogue. \n\n\n\nThis event is being held specifically for members of the DBA and the other co-sponsoring bars. It is free for members\, but registration is required. If you have a topic or question you would like addressed\, please submit it here by March 24\, 2026. \n\n\n\nRegister here.
URL:https://chba.net/event/co-secretary-of-state-candidate-forum/
END:VEVENT
END:VCALENDAR