BEGIN:VCALENDAR
VERSION:2.0
PRODID:-//Colorado Hispanic Bar Association - ECPv6.15.17//NONSGML v1.0//EN
CALSCALE:GREGORIAN
METHOD:PUBLISH
X-ORIGINAL-URL:https://chba.net
X-WR-CALDESC:Events for Colorado Hispanic Bar Association
REFRESH-INTERVAL;VALUE=DURATION:PT1H
X-Robots-Tag:noindex
X-PUBLISHED-TTL:PT1H
BEGIN:VTIMEZONE
TZID:America/Denver
BEGIN:DAYLIGHT
TZOFFSETFROM:-0700
TZOFFSETTO:-0600
TZNAME:MDT
DTSTART:20250309T090000
END:DAYLIGHT
BEGIN:STANDARD
TZOFFSETFROM:-0600
TZOFFSETTO:-0700
TZNAME:MST
DTSTART:20251102T080000
END:STANDARD
BEGIN:DAYLIGHT
TZOFFSETFROM:-0700
TZOFFSETTO:-0600
TZNAME:MDT
DTSTART:20260308T090000
END:DAYLIGHT
BEGIN:STANDARD
TZOFFSETFROM:-0600
TZOFFSETTO:-0700
TZNAME:MST
DTSTART:20261101T080000
END:STANDARD
BEGIN:DAYLIGHT
TZOFFSETFROM:-0700
TZOFFSETTO:-0600
TZNAME:MDT
DTSTART:20270314T090000
END:DAYLIGHT
BEGIN:STANDARD
TZOFFSETFROM:-0600
TZOFFSETTO:-0700
TZNAME:MST
DTSTART:20271107T080000
END:STANDARD
END:VTIMEZONE
BEGIN:VEVENT
DTSTART;TZID=America/Denver:20260926T170000
DTEND;TZID=America/Denver:20260926T230000
DTSTAMP:20260425T132301
CREATED:20250711T163811Z
LAST-MODIFIED:20260126T052037Z
UID:10000383-1790442000-1790463600@chba.net
SUMMARY:En el Jardín Annual Banquet 2026
DESCRIPTION:CHBA returns once again to the Denver Botanic Gardens for the 2026 En el Jardín Annual Banquet. Enjoy catching up with CHBA friends over cocktails and great food before our annual awards presentation. Finish the evening with dessert and dancing at the on-site afterparty. All event tickets include access to the gardens.  \n\n\n\nInterested in sponsoring a table? Explore our sponsorship opportunities. \n\n\n\nTicket Pricing:\n\n\n\n\nEarly Bird (through May 31\, 2026): $175 (Nonmembers) / $150 (Members)\n\n\n\nStandard Pricing (June 1 – September 6): $200 (Nonmembers) / $175 (Members)\n\n\n\nFinal Two Weeks (September 7 – September 18): $250 (All attendees)\n\n\n\n\n\n\n\n\nOther Event Information:\n\n\n\n\n5pm cocktails; 6:30pm dinner; 7:30pm awards; 8:30pm dessert and dancing\n\n\n\nCocktail to formal attire.\n\n\n\nAll individual tickets are unassigned seating.\n\n\n\nFree onsite parking is available.
URL:https://chba.net/event/en-el-jardin-annual-banquet-2026/
END:VEVENT
END:VCALENDAR